BEGIN:VCALENDAR
VERSION:2.0
PRODID:-//Memphis Jazz Workshop - ECPv6.15.20//NONSGML v1.0//EN
CALSCALE:GREGORIAN
METHOD:PUBLISH
X-ORIGINAL-URL:https://memphisjazzworkshop.org
X-WR-CALDESC:Events for Memphis Jazz Workshop
REFRESH-INTERVAL;VALUE=DURATION:PT1H
X-Robots-Tag:noindex
X-PUBLISHED-TTL:PT1H
BEGIN:VTIMEZONE
TZID:America/Chicago
BEGIN:DAYLIGHT
TZOFFSETFROM:-0600
TZOFFSETTO:-0500
TZNAME:CDT
DTSTART:20250309T080000
END:DAYLIGHT
BEGIN:STANDARD
TZOFFSETFROM:-0500
TZOFFSETTO:-0600
TZNAME:CST
DTSTART:20251102T070000
END:STANDARD
BEGIN:DAYLIGHT
TZOFFSETFROM:-0600
TZOFFSETTO:-0500
TZNAME:CDT
DTSTART:20260308T080000
END:DAYLIGHT
BEGIN:STANDARD
TZOFFSETFROM:-0500
TZOFFSETTO:-0600
TZNAME:CST
DTSTART:20261101T070000
END:STANDARD
BEGIN:DAYLIGHT
TZOFFSETFROM:-0600
TZOFFSETTO:-0500
TZNAME:CDT
DTSTART:20270314T080000
END:DAYLIGHT
BEGIN:STANDARD
TZOFFSETFROM:-0500
TZOFFSETTO:-0600
TZNAME:CST
DTSTART:20271107T070000
END:STANDARD
END:VTIMEZONE
BEGIN:VEVENT
DTSTART;TZID=America/Chicago:20260509T133000
DTEND;TZID=America/Chicago:20260509T153000
DTSTAMP:20260421T100842
CREATED:20260418T143341Z
LAST-MODIFIED:20260418T180909Z
UID:1421-1778333400-1778340600@memphisjazzworkshop.org
SUMMARY:Spring Concert
DESCRIPTION:MJW Spring Concert & Fundraiser Nashoba — Collierville\, TN | May 9 at 1:30 PM \nCome out for an afternoon of live jazz\, great food\, drinks\, and community! Join us as our Memphis Jazz Workshop students take the stage for our annual Spring Concert & Fundraiser. \nYour support goes directly toward helping students cover summer camp fees and masterclasses — giving young musicians the tools and experiences they need to grow. \nCome for the music. Stay for the community. Make a difference.
URL:https://memphisjazzworkshop.org/calendar/spring-concert/
LOCATION:Nashoba Collierville\, 4600 Merchants Park Cir Suite 111\,\, Collierville\, TN\, 38017\, United States
ORGANIZER;CN="Memphis Jazz Workshop":MAILTO:info@memphisjazzworkshop.org
END:VEVENT
BEGIN:VEVENT
DTSTART;TZID=America/Chicago:20260601T083000
DTEND;TZID=America/Chicago:20260601T130000
DTSTAMP:20260421T100842
CREATED:20260418T175923Z
LAST-MODIFIED:20260418T180547Z
UID:1429-1780302600-1780318800@memphisjazzworkshop.org
SUMMARY:Summer Camp 2026
DESCRIPTION:Join the Memphis Jazz Workshop this summer! This 4-week camp is designed for musicians ages 12–18 with a passion for music. Students will develop their jazz skills\, explore the rich musical heritage of Memphis\, and perform in a live concert for family and friends. \nCamp Dates: June 1 – June 26\, 2026 Final Concert: June 27\, 2026 \nThis camp is offered in partnership with the City of Memphis MPLOY Program. Accepted applicants who select Music & Arts as their focus area may choose Memphis Jazz Workshop as their worksite placement for the summer.
URL:https://memphisjazzworkshop.org/calendar/summer-camp-2026/
LOCATION:Southwest Community College-Union Avenue Campus\, 737 Union Ave\, Memphis\, TN\, 38103\, United States
ORGANIZER;CN="Memphis Jazz Workshop":MAILTO:info@memphisjazzworkshop.org
END:VEVENT
END:VCALENDAR